BEGIN:VCALENDAR
VERSION:2.0
CALSCALE:GREGORIAN
PRODID:-//Diputació de Barcelona//DibaCMS//EN
BEGIN:VEVENT
UID:10223
DTSTAMP:20260422T181233
DTSTART:20250531T160000
DTEND:20250531T233000
SUMMARY:Estival Market - dissabte 
LOCATION:Mas l'Esperança, s/n 08503 Gurb
METHOD:PUBLISH
X-WR-CALNAME:ajgurb@gurb.cat
X-WR-TIMEZONE:Europe/Madrid
DESCRIPTION:Artesania, música en directe i gastronomia

URI:https://www.gurb.cat/actualitat/agenda/estival-market-dissabte-.html
CLASS:PUBLIC
END:VEVENT
END:VCALENDAR
