BEGIN:VCALENDAR
VERSION:2.0
CALSCALE:GREGORIAN
PRODID:-//Diputació de Barcelona//DibaCMS//EN
BEGIN:VEVENT
UID:10265
DTSTAMP:20260425T152657
DTSTART:20250623T190000
DTEND:20250623T210000
SUMMARY:La Flama del Canigó arriba a Gurb  
LOCATION:Plaça U d'octubre  
METHOD:PUBLISH
X-WR-CALNAME:ajgurb@gurb.cat
X-WR-TIMEZONE:Europe/Madrid
DESCRIPTION:Arribarà a partir de les 19.00 h a la plaça U d'Octubre. 

URI:https://www.gurb.cat/actualitat/agenda/10265-la-flama-del-canigo-arriba-a-gurb-.html
CLASS:PUBLIC
END:VEVENT
END:VCALENDAR
