BEGIN:VCALENDAR
VERSION:2.0
CALSCALE:GREGORIAN
PRODID:-//Diputació de Barcelona//DibaCMS//EN
BEGIN:VEVENT
UID:10702
DTSTAMP:20260421T102148
DTSTART:20260313T133000
DTEND:20260313T143000
SUMMARY:Inauguració exposició "Josefa, Misia, Coco i Roussy". 
LOCATION:Mas l'Esperança, s/n 08503 Gurb
METHOD:PUBLISH
X-WR-CALNAME:ajgurb@gurb.cat
X-WR-TIMEZONE:Europe/Madrid
DESCRIPTION:Mostra d’art de l’alumnat de 4t, de l’optativa d’Expressió Artística de l’Institut de Gurb. 

URI:https://www.gurb.cat/actualitat/agenda/inauguracio-exposicio-josefa-misia-coco-i-roussy-.html
CLASS:PUBLIC
END:VEVENT
END:VCALENDAR
