BEGIN:VCALENDAR
VERSION:2.0
CALSCALE:GREGORIAN
PRODID:-//Diputació de Barcelona//DibaCMS//EN
BEGIN:VEVENT
UID:10762
DTSTAMP:20260421T163214
DTSTART:20260530T160000
DTEND:20260530T233000
SUMMARY:Estival Market - dissabte 
LOCATION:Mas l'Esperança, s/n 08503 Gurb
METHOD:PUBLISH
X-WR-CALNAME:ajgurb@gurb.cat
X-WR-TIMEZONE:Europe/Madrid
DESCRIPTION:Artesania, música en directe i gastronomia

URI:https://www.gurb.cat/actualitat/agenda/10762-estival-market-dissabte-.html
CLASS:PUBLIC
END:VEVENT
END:VCALENDAR
