BEGIN:VCALENDAR
VERSION:2.0
CALSCALE:GREGORIAN
PRODID:-//Diputació de Barcelona//DibaCMS//EN
BEGIN:VEVENT
UID:10763
DTSTAMP:20260420T144816
DTSTART:20260513T091500
DTEND:20260513T120000
SUMMARY:Ruta saludable- Caminada al bosc encantat amb el guiatge de Josep Solé
LOCATION:
METHOD:PUBLISH
X-WR-CALNAME:ajgurb@gurb.cat
X-WR-TIMEZONE:Europe/Madrid
DESCRIPTION: Guiatge i acompanyament per un dels seus autors.

URI:https://www.gurb.cat/actualitat/agenda/ruta-saludable-caminada-al-bosc-encantat-amb-el-guiatge-de-josep-sole.html
CLASS:PUBLIC
END:VEVENT
END:VCALENDAR
