BEGIN:VCALENDAR
VERSION:2.0
CALSCALE:GREGORIAN
PRODID:-//Diputació de Barcelona//DibaCMS//EN
BEGIN:VEVENT
UID:10765
DTSTAMP:20260420T145723
DTSTART:20260513T170000
DTEND:20260513T190000
SUMMARY:Cinefòrum casal de la gent gran "El Doctor de la Felicitat"
LOCATION:Sala de cultura 
METHOD:PUBLISH
X-WR-CALNAME:ajgurb@gurb.cat
X-WR-TIMEZONE:Europe/Madrid
DESCRIPTION:Activitat adreçada a públic adult.

URI:https://www.gurb.cat/actualitat/agenda/cineforum-casal-de-la-gent-gran-el-doctor-de-la-felicitat.html
CLASS:PUBLIC
END:VEVENT
END:VCALENDAR
