BEGIN:VCALENDAR
VERSION:2.0
CALSCALE:GREGORIAN
PRODID:-//Diputació de Barcelona//DibaCMS//EN
BEGIN:VEVENT
UID:10771
DTSTAMP:20260420T145816
DTSTART:20260430T190000
DTEND:20260430T200000
SUMMARY:Inauguració exposició compartida 
LOCATION:Mas l'Esperança, s/n 08503 Gurb
METHOD:PUBLISH
X-WR-CALNAME:ajgurb@gurb.cat
X-WR-TIMEZONE:Europe/Madrid
DESCRIPTION:Dibuixos a Tinta de Nazari Raurell i Plats de Porcellana de Pere Trasserra. 

URI:https://www.gurb.cat/actualitat/agenda/inauguracio-exposicio-compartida-.html
CLASS:PUBLIC
END:VEVENT
END:VCALENDAR
