BEGIN:VCALENDAR
VERSION:2.0
CALSCALE:GREGORIAN
PRODID:-//Diputació de Barcelona//DibaCMS//EN
BEGIN:VEVENT
UID:10772
DTSTAMP:20260423T154433
DTSTART:20260426T110000
DTEND:20260426T130000
SUMMARY:Aplec de Santa Perpètua  
LOCATION:08503 Gurb
METHOD:PUBLISH
X-WR-CALNAME:ajgurb@gurb.cat
X-WR-TIMEZONE:Europe/Madrid
DESCRIPTION:14è Aplec després de la restauració. 

URI:https://www.gurb.cat/actualitat/agenda/10772-aplec-de-santa-perpetua-.html
CLASS:PUBLIC
END:VEVENT
END:VCALENDAR
