BEGIN:VCALENDAR
VERSION:2.0
CALSCALE:GREGORIAN
PRODID:-//Diputació de Barcelona//DibaCMS//EN
BEGIN:VEVENT
UID:9800
DTSTAMP:20260423T225824
DTSTART:20240408T203000
DTEND:20240408T220000
SUMMARY:Comissió informativa abril 2024
LOCATION:
METHOD:PUBLISH
X-WR-CALNAME:ajgurb@gurb.cat
X-WR-TIMEZONE:Europe/Madrid
DESCRIPTION:
URI:https://www.gurb.cat/ajuntament/accio-de-govern/agenda-institucional-de-lalcalde/comissio-informativa-abril-2024.html
CLASS:PUBLIC
END:VEVENT
END:VCALENDAR
