BEGIN:VCALENDAR
VERSION:2.0
CALSCALE:GREGORIAN
PRODID:-//Diputació de Barcelona//DibaCMS//EN
BEGIN:VEVENT
UID:9872
DTSTAMP:20260420T143910
DTSTART:20240529T163000
DTEND:20240529T173000
SUMMARY:reunió projecte nou conveni àrea del pla de camins
LOCATION:
METHOD:PUBLISH
X-WR-CALNAME:ajgurb@gurb.cat
X-WR-TIMEZONE:Europe/Madrid
DESCRIPTION:
URI:https://www.gurb.cat/ajuntament/accio-de-govern/agenda-institucional-de-lalcalde/reunio-projecte-nou-conveni-area-del-pla-de-camins.html
CLASS:PUBLIC
END:VEVENT
END:VCALENDAR
